BEGIN:VCALENDAR
VERSION:2.0
PRODID:-//wp-events-plugin.com//7.2.3.1//EN
BEGIN:VEVENT
UID:1143@atonementlutheran.com
DTSTART:20240627T020000Z
DTEND:20240627T040000Z
DTSTAMP:20240529T193318Z
URL:https://atonementlutheran.com/events/church-bbq/
SUMMARY:Church BBQ
DESCRIPTION:It is a POTLUCK barbecue with the meat and beverages furnished 
 by Atonement.\n\nJune:      hamburgers/hot dogs\n\nJuly:      
   chicken\n\nAugust::  seafood\, depending on what is available\n\n&nbsp
 \;
LOCATION:Atonement Lutheran Church\, 2315 North Coast Highway\, Newport\, O
 regon\, 97365-1710\, United States
X-APPLE-STRUCTURED-LOCATION;VALUE=URI;X-ADDRESS=2315 North Coast Highway\, 
 Newport\, Oregon\, 97365-1710\, United States;X-APPLE-RADIUS=100;X-TITLE=A
 tonement Lutheran Church:geo:0,0
END:VEVENT
END:VCALENDAR